BEGIN:VCALENDAR
VERSION:2.0
PRODID:-//Móra Ferenc Városi Könyvtár és Múzeum//NONSGML kigkonsult.se iCalcreator 2.41.92//
CALSCALE:GREGORIAN
METHOD:PUBLISH
UID:37353364-6162-4034-b261-373835633937
X-WR-CALNAME:iCagenda
X-WR-CALDESC:Event Management Extension for Joomla!
X-WR-RELCALID:3E26604A-50F4-4449-8B3E-E4F4932D05B5
X-WR-TIMEZONE:UTC
BEGIN:VTIMEZONE
TZID:UTC
END:VTIMEZONE
BEGIN:VEVENT
UID:33323234-3165-4062-a139-316530643061
DTSTAMP:20260419T140528Z
CATEGORIES:Gyermekkönyvtári rendezvény
CLASS:PUBLIC
DESCRIPTION;ALTREP="CID:<FFFF__=0ABBE548DFE235B58f9e8a93d@coffeebean.com>":
 Szeretettel várjuk a családokat egy dalos\, zenés\, mondókás félórára\, Ho
 chrein Judit vezetésével!\nRészletek a plakáton!
DTSTART:20260520T100000Z
DTEND:20260520T100000Z
GEO:+46.954586;+16.273426
LOCATION:Gyermekkönyvtár
ORGANIZER:
SEQUENCE:1
SUMMARY:Ringató - Hochrein Judit vezetésével
TRANSP:OPAQUE
URL:https://mfvk.pkapu.hu/progrmajanlo/ringato-hochrein-judit-vezetesevel/2
 026-05-20-10-00
END:VEVENT
END:VCALENDAR
