BEGIN:VCALENDAR
VERSION:2.0
PRODID:-//Móra Ferenc Városi Könyvtár és Múzeum//NONSGML kigkonsult.se iCalcreator 2.41.92//
CALSCALE:GREGORIAN
METHOD:PUBLISH
UID:37616330-3862-4764-b361-336264303030
X-WR-CALNAME:iCagenda
X-WR-CALDESC:Event Management Extension for Joomla!
X-WR-RELCALID:3E26604A-50F4-4449-8B3E-E4F4932D05B5
X-WR-TIMEZONE:UTC
BEGIN:VTIMEZONE
TZID:UTC
END:VTIMEZONE
BEGIN:VEVENT
UID:33396337-6239-4739-a265-643263326164
DTSTAMP:20260419T140415Z
CATEGORIES:Gyermekkönyvtári rendezvény
CLASS:PUBLIC
DESCRIPTION;ALTREP="CID:<FFFF__=0ABBE548DFE235B58f9e8a93d@coffeebean.com>":
 Készüljünk együtt az Anyák napjára!&nbsp\;Várunk minden alkotni vágyó gyer
 meket és szülőt egy közös\, kreatív délutánra! Együtt készíthetünk apró me
 glepetéseket Piroska nénivel és Marianna nénivel.&nbsp\;A részvétel 5 éves
  kortól ajánlott! Szeretettel várunk!
DTSTART:20260424T163000Z
DTEND:20260424T163000Z
GEO:+46.954586;+16.273426
LOCATION:Gyermekkönyvtár
ORGANIZER:
SEQUENCE:1
SUMMARY:Anyák napi kézműves délután
TRANSP:OPAQUE
URL:https://mfvk.pkapu.hu/progrmajanlo/anyak-napi-kezmuves-delutan/2026-04-
 24-16-30
END:VEVENT
END:VCALENDAR
